BEGIN:VCALENDAR
VERSION:2.0
PRODID:spatie/icalendar-generator
DESCRIPTION:Events from Midland Gem and Mineral Society - MGMS
X-WR-CALDESC:Events from Midland Gem and Mineral Society - MGMS
REFRESH-INTERVAL;VALUE=DURATION:PT1440M
X-PUBLISHED-TTL:PT1440M
BEGIN:VTIMEZONE
TZID:America/Chicago
BEGIN:STANDARD
DTSTART:20251102T020000Z
TZOFFSETFROM:-0500
TZOFFSETTO:-0600
END:STANDARD
BEGIN:DAYLIGHT
DTSTART:20260308T020000Z
TZOFFSETFROM:-0600
TZOFFSETTO:-0500
END:DAYLIGHT
END:VTIMEZONE
BEGIN:VTIMEZONE
TZID:UTC
BEGIN:STANDARD
DTSTART:20250727T160213Z
TZOFFSETFROM:+0000
TZOFFSETTO:+0000
END:STANDARD
END:VTIMEZONE
BEGIN:VEVENT
UID:5405-297
DTSTAMP:20260423T160213Z
SUMMARY:MGMS 2026Outdoor Market
LOCATION:Midland Gem &amp; Mineral Society PO Box 5043  Midland TX 79704
ORGANIZER;CN=Susan May:MAILTO:degunewt@hotmail.com
DTSTART;TZID=America/Chicago;VALUE=DATE:20260425
DTEND;TZID=America/Chicago;VALUE=DATE:20260426
X-ALT-DESC;FMTTYPE=TEXT/HTML:We have over 10 vendors for our 2026 outdoor m
 arket selling a variety of jewelry\, rocks and minerals\, slabs\, fossils\
 , carved items\, and more!  This is free and open to the public.  There 
 will also be Geodes cut on site.
CATEGORIES:
URL;VALUE=URI:
METHOD:PUBLISH
END:VEVENT
END:VCALENDAR